BEGIN:VCALENDAR
VERSION:2.0
PRODID:-//eventon.com NONSGML v1.0//EN
CALSCALE:GREGORIAN
METHOD:PUBLISH
BEGIN:VEVENT
UID:69eb9f163dfd6
DTSTAMP:20260424T164926Z
DTSTART:20240612T190000Z
DTEND:20240612T235000Z
LOCATION:
SUMMARY:Goutte d'or
DESCRIPTION:Ramsès\,  trente-cinq ans\,  tient un cabinet de voyance à la
  Goutte d'or à Paris. Habile manipulateur et un peu poète sur les bords\,
   il a mis sur pied un solide commerce de la consolation. L'arrivée d'enfa
 nts venus des rues de Tanger\,  aussi dangereux qu'insaisissables\,  vient 
 perturber l'équilibre de son commerce[..]\nhttps://institutfrancais.ci/eve
 nts/goutte-dor/
URL:https://institutfrancais.ci/events/goutte-dor/
END:VEVENT
END:VCALENDAR