BEGIN:VCALENDAR
VERSION:2.0
PRODID:-//eventon.com NONSGML v1.0//EN
CALSCALE:GREGORIAN
METHOD:PUBLISH
BEGIN:VEVENT
UID:69ea2b16e0ab8
DTSTAMP:20260423T142214Z
DTSTART:20260428T090000Z
DTEND:20260502T170000Z
LOCATION:
SUMMARY:SILA
DESCRIPTION:La 16ème édition du Salon International du Livre d’Abidjan 
 (SILA) se tiendra du 28 avril au 2 mai 2026 au Parc des Expositions d’Abi
 djan-Port-Bouët (Hall)\,  en Côte d’Ivoire. Cet événement est une vé
 ritable invitation à la célébration du Livre. Cette année\,  le thème 
 « Lire ou Bâtir » sera à[..]\nhttps://institutfrancais.ci/events/sila-2
 /
URL:https://institutfrancais.ci/events/sila-2/
END:VEVENT
END:VCALENDAR