BEGIN:VCALENDAR
VERSION:2.0
PRODID:-//eventon.com NONSGML v1.0//EN
CALSCALE:GREGORIAN
METHOD:PUBLISH
BEGIN:VEVENT
UID:69e94c2d1adb2
DTSTAMP:20260422T223109Z
DTSTART:20260521T180000Z
DTEND:20260610T170000Z
LOCATION:
SUMMARY:Matéryo Péyi
DESCRIPTION:Matéryo Péyi est un programme de professionnalisation en desi
 gn de matériaux initié par Tombolos. Sa mission : relier et transmettre l
 es savoirs écologiques populaires sur les matériaux entre l’Afrique de 
 l’Ouest et la Caraïbe. Pour cette première édition\,  menée en parten
 ariat avec le Campus Caraïbéen des Arts (Martinique)\,  Tombolos s’asso
 cie[..]\nhttps://institutfrancais.ci/events/materyo-peyi/
URL:https://institutfrancais.ci/events/materyo-peyi/
END:VEVENT
END:VCALENDAR