BEGIN:VCALENDAR
VERSION:2.0
PRODID:-//eventon.com NONSGML v1.0//EN
CALSCALE:GREGORIAN
METHOD:PUBLISH
BEGIN:VEVENT
UID:69e92e99a3520
DTSTAMP:20260422T202457Z
DTSTART:20260423T180000Z
DTEND:20260513T170000Z
LOCATION:
SUMMARY:4 regards\,  un monde
DESCRIPTION:L’Institut français de Côte d’Ivoire accueille la toute p
 remière exposition issue d’une des résidences de la Villa N’Zuo réun
 issant les quatre artistes : Diouf Makhtar\,  Ange Wilfried Kouamé Kouassi
 \,  mais aussi les lauréats du Prix BJKD Ouattara Seydou et Silué Womader
 i Soungari. Pendant plusieurs semaines\,  ils ont développé et expérimen
 té[..]\nhttps://institutfrancais.ci/events/4-regards-un-monde/
URL:https://institutfrancais.ci/events/4-regards-un-monde/
END:VEVENT
END:VCALENDAR