BEGIN:VCALENDAR
VERSION:2.0
PRODID:-//eventon.com NONSGML v1.0//EN
CALSCALE:GREGORIAN
METHOD:PUBLISH
BEGIN:VEVENT
UID:69ea2b02dd324
DTSTAMP:20260423T142154Z
DTSTART:20260425T200000Z
DTEND:20260425T235000Z
LOCATION:
SUMMARY:L'Avare
DESCRIPTION:Reprendre Molière\,  en français pluriel (alexandrins\,  fran
 çais ivoirien\,  et même nouchi)\,  il fallait oser : Abass Zein l’a fa
 it. À projet fou\,  casting d’exception. Koami Vignon\,  Floppy Mendosa\
 ,  Clentelex\,  C’Katcha\,  Lua\,  Samuel Brou\,  Eddy Dagher\,  Clément
  Michel\,  Christophe Kassi deviennent les héros de Molière et témoignen
 t de son implacable modernité.[..]\nhttps://institutfrancais.ci/events/lav
 are-2/
URL:https://institutfrancais.ci/events/lavare-2/
END:VEVENT
END:VCALENDAR