BEGIN:VCALENDAR
VERSION:2.0
PRODID:-//eventon.com NONSGML v1.0//EN
CALSCALE:GREGORIAN
METHOD:PUBLISH
BEGIN:VEVENT
UID:69e94bf2b829e
DTSTAMP:20260422T223010Z
DTSTART:20260604T180000Z
DTEND:20260604T235000Z
LOCATION:
SUMMARY:Goncourt Côte d'Ivoire
DESCRIPTION:Le Choix Goncourt\,  initié par l’Académie Goncourt\,  mobi
 lise chaque année des étudiants autour des romans finalistes du prix. Pou
 r sa 3e édition ivoirienne\,  une soirée réunira lectures\,  débats et 
 performances mêlant musique et slam. Elle s’achèvera par la proclamatio
 n du lauréat. Œuvres en lice : La maison vide de Laurent[..]\nhttps://ins
 titutfrancais.ci/events/goncourt-cote-divoire/
URL:https://institutfrancais.ci/events/goncourt-cote-divoire/
END:VEVENT
END:VCALENDAR