BEGIN:VCALENDAR
VERSION:2.0
PRODID:-//eventon.com NONSGML v1.0//EN
CALSCALE:GREGORIAN
METHOD:PUBLISH
BEGIN:VEVENT
UID:69e94c03766b3
DTSTAMP:20260422T223027Z
DTSTART:20260619T190000Z
DTEND:20260619T235000Z
LOCATION:
SUMMARY:Fête de la musique : concert surprise
DESCRIPTION:Après Mula\,  ce ne sera pas un invité mais plusieurs artiste
 s qui se réuniront sur scène pour offrir un show mémorable à l’occasi
 on de la Fête de la Musique. Une performance collective dans un format exc
 eptionnel\,  où la transmission sera au cœur du spectacle. Au centre de c
 ette rencontre :[..]\nhttps://institutfrancais.ci/events/fete-de-la-musique
 -concert-surprise-2/
URL:https://institutfrancais.ci/events/fete-de-la-musique-concert-surprise-2/
END:VEVENT
END:VCALENDAR