BEGIN:VCALENDAR
VERSION:2.0
PRODID:-//eventon.com NONSGML v1.0//EN
CALSCALE:GREGORIAN
METHOD:PUBLISH
BEGIN:VEVENT
UID:69e94bbda9821
DTSTAMP:20260422T222917Z
DTSTART:20260612T190000Z
DTEND:20260612T235000Z
LOCATION:
SUMMARY:Perles des lagunes
DESCRIPTION:Perles des Lagunes est un spectacle musical inédit\,  porté p
 ar trois voix puissantes et incontournables de la scène féminine ivoirien
 ne contemporaine : Ruth Tafébé\,  Reine Ablaa et Jahelle Bonee.Nées au c
 roisement entre terre et eau\,  enracinées dans des traditions millénaire
 s tout en puisant dans les audaces urbaines\,  ces trois artistes[..]\nhttp
 s://institutfrancais.ci/events/perles-des-lagunes/
URL:https://institutfrancais.ci/events/perles-des-lagunes/
END:VEVENT
END:VCALENDAR