BEGIN:VCALENDAR
VERSION:2.0
PRODID:-//eventon.com NONSGML v1.0//EN
CALSCALE:GREGORIAN
METHOD:PUBLISH
BEGIN:VEVENT
UID:69e94b989b6e0
DTSTAMP:20260422T222840Z
DTSTART:20260529T190000Z
DTEND:20260529T235000Z
LOCATION:
SUMMARY:Concert Les Woody
DESCRIPTION:Groupe mythique du pop-rock ivoirien\,  Les Woody composé de J
 ack Delly\,  Phil Azoumé\,  Chris de Bagnon et Obo Snake (rejoint plus tar
 d par d’autres talents) sont les architectes d’un son unique. Pionniers
  de l’Afro-Pop\,  ils mêlent harmonies vocales\,  rythmes ivoiriens et t
 extes engagés. Lors du concert\,  ils célèbreront leur héritage[..]\nht
 tps://institutfrancais.ci/events/concert-les-woody/
URL:https://institutfrancais.ci/events/concert-les-woody/
END:VEVENT
END:VCALENDAR