BEGIN:VCALENDAR
VERSION:2.0
PRODID:-//eventon.com NONSGML v1.0//EN
CALSCALE:GREGORIAN
METHOD:PUBLISH
BEGIN:VEVENT
UID:69e94b9ea5ad5
DTSTAMP:20260422T222846Z
DTSTART:20260423T180000Z
DTEND:20260423T235000Z
LOCATION:
SUMMARY:Les apÃ©ros sonores
DESCRIPTION:Les ApÃ©ros Sonores câ€™est chaque dernier jeudi du mois Ã  lâ€
 ™IFCI avec une sÃ©lection vinyle qui mÃªle afrobeat\,  rumba\,  reggae\,  f
 unk\,  jazz et bien plus. PortÃ©s par Soul Driver\,  le Club Calao et lâ€™E
 space Coco\,  ces soirÃ©es accompagnent les vernissages et Ã©vÃ©nements de 
 lâ€™Institut\,  toujours dans une ambiance chill et[..]\nhttps://institutfr
 ancais.ci/events/ivoire-jazz-night-9/
URL:https://institutfrancais.ci/events/ivoire-jazz-night-9/
END:VEVENT
END:VCALENDAR