BEGIN:VCALENDAR
VERSION:2.0
PRODID:-//eventon.com NONSGML v1.0//EN
CALSCALE:GREGORIAN
METHOD:PUBLISH
BEGIN:VEVENT
UID:69e94c46368e2
DTSTAMP:20260422T223134Z
DTSTART:20260626T200000Z
DTEND:20260626T235000Z
LOCATION:
SUMMARY:Ivoire Jazz Night
DESCRIPTION:Hommage à Aly Keïta à travers des collaborations uniques ent
 re les meilleurs musiciens de jazz d’Abidjan. Une immersion dans l’univ
 ers du jazz ivoirien. Tarifs : 5 000 FCFA / 3 000* FCFA*Tarif réduit: - 18
  ans\,  étudiants -30 ans et abonnés à la médiathèque de l'IFCI sur pr
 ésentation d'un justificatif.\nhttps://institutfrancais.ci/events/ivoire-j
 azz-night-8/
URL:https://institutfrancais.ci/events/ivoire-jazz-night-8/
END:VEVENT
END:VCALENDAR