BEGIN:VCALENDAR
VERSION:2.0
PRODID:-//eventon.com NONSGML v1.0//EN
CALSCALE:GREGORIAN
METHOD:PUBLISH
BEGIN:VEVENT
UID:69ea2b372ce22
DTSTAMP:20260423T142247Z
DTSTART:20260430T200000Z
DTEND:20260430T235000Z
LOCATION:
SUMMARY:Ivoire Jazz Day
DESCRIPTION:Hommage à George Duke & Virtuosité Internationale Le 30 avril
  2026\,  rejoignez-nous pour une célébration exceptionnelle de la note bl
 eue ! Pour cette édition spéciale\,  l’Ivoire Jazz Night met à l’hon
 neur le légendaire George Duke et accueille une figure montante de la scè
 ne internationale. Tarifs : 5 000 FCFA /[..]\nhttps://institutfrancais.ci/e
 vents/ivoire-jazz-day/
URL:https://institutfrancais.ci/events/ivoire-jazz-day/
END:VEVENT
END:VCALENDAR