BEGIN:VCALENDAR
VERSION:2.0
PRODID:-//eventon.com NONSGML v1.0//EN
CALSCALE:GREGORIAN
METHOD:PUBLISH
BEGIN:VEVENT
UID:69e92ebe9ec46
DTSTAMP:20260422T202534Z
DTSTART:20260428T200000Z
DTEND:20260429T235000Z
LOCATION:
SUMMARY:FEMUA 18
DESCRIPTION:Le Festival des Musiques Urbaines d’Anoumabo (FEMUA) est l’
 un des plus grands rendez-vous musicaux d’Afrique subsaharienne. Chaque a
 nnée\,  il rassemble artistes\,  publics et professionnels autour des musi
 ques urbaines et de la célébration des cultures africaines. Dans ce cadre
 \,  l’Institut français de Côte d’Ivoire accueillera : •le 28 avril
 \,  une soirée[..]\nhttps://institutfrancais.ci/events/femua-18/
URL:https://institutfrancais.ci/events/femua-18/
END:VEVENT
END:VCALENDAR