BEGIN:VCALENDAR
VERSION:2.0
PRODID:-//eventon.com NONSGML v1.0//EN
CALSCALE:GREGORIAN
METHOD:PUBLISH
BEGIN:VEVENT
UID:69ea59d013333
DTSTAMP:20260423T174136Z
DTSTART:20260704T190000Z
DTEND:20260704T235000Z
LOCATION:
SUMMARY:Adam-mots
DESCRIPTION:« La Calebasse n’a pas de couvercle » Ce spectacle est une 
 traversée poétique et scénique autour de la parole : libre\,  indomptabl
 e\,  essentielle. Entre slam\,  mémoire et engagement\,  ce spectacle\,  m
 ené par le poète- slameur Adam-Mots\,  donne corps à ce qui déborde : l
 es silences\,  les non- dits\,  les[..]\nhttps://institutfrancais.ci/events
 /adam-mots/
URL:https://institutfrancais.ci/events/adam-mots/
END:VEVENT
END:VCALENDAR