BEGIN:VCALENDAR
VERSION:2.0
PRODID:-//eventon.com NONSGML v1.0//EN
CALSCALE:GREGORIAN
METHOD:PUBLISH
BEGIN:VEVENT
UID:69e94beb37130
DTSTAMP:20260422T223003Z
DTSTART:20260530T190000Z
DTEND:20260530T235000Z
LOCATION:
SUMMARY:Noubo
DESCRIPTION:« Mon couloir »À travers un cocktail de Slam\,  de chants af
 ro pop\,  accompagnés de guitare\,  de piano et de percussions\,  Noubo vo
 us invite dans son couloir. Un espace où la poésie et la musique se renco
 ntrent pour créer une sensation unique. Tarifs : 5 000 FCFA / 3 000[..]\nh
 ttps://institutfrancais.ci/events/noubo/
URL:https://institutfrancais.ci/events/noubo/
END:VEVENT
END:VCALENDAR