BEGIN:VCALENDAR
VERSION:2.0
PRODID:-//eventon.com NONSGML v1.0//EN
CALSCALE:GREGORIAN
METHOD:PUBLISH
BEGIN:VEVENT
UID:69ea2abe97728
DTSTAMP:20260423T142046Z
DTSTART:20260413T090000Z
DTEND:20260417T170000Z
LOCATION:
SUMMARY:MASA
DESCRIPTION:Organisé tous les deux ans\,  le MASA est aujourd’hui une bi
 ennale internationale qui réunit\,  pendant une semaine\,  du 09 au 18 avr
 il\,  des artistes\,  des professionnels du spectacle\,  des programmateurs
  et des publics venus des cinq continents. Il offre un cadre unique pour pr
 omouvoir\,  diffuser et professionnaliser les arts vivants\, [..]\nhttps://
 institutfrancais.ci/events/masa/
URL:https://institutfrancais.ci/events/masa/
END:VEVENT
END:VCALENDAR