BEGIN:VCALENDAR
VERSION:2.0
PRODID:-//eventon.com NONSGML v1.0//EN
CALSCALE:GREGORIAN
METHOD:PUBLISH
BEGIN:VEVENT
UID:69e94c7fec992
DTSTAMP:20260422T223231Z
DTSTART:20260516T090000Z
DTEND:20260516T235000Z
LOCATION:
SUMMARY:La fabrique numÃ©rique
DESCRIPTION:Atelier d'initiation Ã  l'informatique et d'Ã©ducation aux cult
 ures numÃ©riques.Ateliers numÃ©riques pour les 9 ans et plus. Adresse dâ€™i
 nscription : mediatheque@institutfrancais.ciRÃ©servÃ© aux abonnÃ©s de la mÃ
 ©diathÃ¨que.\nhttps://institutfrancais.ci/events/la-fabrique-numerique-9/
URL:https://institutfrancais.ci/events/la-fabrique-numerique-9/
END:VEVENT
END:VCALENDAR