BEGIN:VCALENDAR
VERSION:2.0
PRODID:-//eventon.com NONSGML v1.0//EN
CALSCALE:GREGORIAN
METHOD:PUBLISH
BEGIN:VEVENT
UID:69e92e78ef943
DTSTAMP:20260422T202424Z
DTSTART:20260416T093000Z
DTEND:20260416T235000Z
LOCATION:
SUMMARY:Atelier art oratoire
DESCRIPTION:Atelier d'initiation Ã  l'art oratoire et de prise de parole en
  public pour les 16 ans et + (jeunes adultes et adultes) Inscription par ma
 il : mediatheque@institutfrancais.ci RÃ©servÃ© aux abonnÃ©s de la mÃ©diathÃ
 ¨que et Ã©tudiants\nhttps://institutfrancais.ci/events/art-oratoire-4/
URL:https://institutfrancais.ci/events/art-oratoire-4/
END:VEVENT
END:VCALENDAR