BEGIN:VCALENDAR
VERSION:2.0
PRODID:-//eventon.com NONSGML v1.0//EN
CALSCALE:GREGORIAN
METHOD:PUBLISH
BEGIN:VEVENT
UID:69ea59a67f88e
DTSTAMP:20260423T174054Z
DTSTART:20260711T090000Z
DTEND:20260711T235000Z
LOCATION:
SUMMARY:La joie de lire
DESCRIPTION:Présentation de l'album "Les Icônes de Kimia" avec Félix Fok
 oua\,  illustrateur du livre. Lecture d'extraits\,  processus d'écriture..
 . et jeux littéraire Inscription par mail : mediatheque@institutfrancais.c
 i\nhttps://institutfrancais.ci/events/la-joie-de-lire-3/
URL:https://institutfrancais.ci/events/la-joie-de-lire-3/
END:VEVENT
END:VCALENDAR