BEGIN:VCALENDAR
VERSION:2.0
PRODID:-//eventon.com NONSGML v1.0//EN
CALSCALE:GREGORIAN
METHOD:PUBLISH
BEGIN:VEVENT
UID:69e94b9e9f73c
DTSTAMP:20260422T222846Z
DTSTART:20260523T093000Z
DTEND:20260523T235000Z
LOCATION:
SUMMARY:Atelier art et littérature
DESCRIPTION:Atelier d'art et littérature avec Anna Djigo autour de la coll
 ection "Arts & découverte de soi" + Dédicaces Inscription par mail : medi
 atheque@institutfrancais.ci\nhttps://institutfrancais.ci/events/atelier-art
 -et-litterature/
URL:https://institutfrancais.ci/events/atelier-art-et-litterature/
END:VEVENT
END:VCALENDAR