BEGIN:VCALENDAR
VERSION:2.0
PRODID:-//eventon.com NONSGML v1.0//EN
CALSCALE:GREGORIAN
METHOD:PUBLISH
BEGIN:VEVENT
UID:69e92e72d7ed4
DTSTAMP:20260422T202418Z
DTSTART:20260411T090000Z
DTEND:20260411T235000Z
LOCATION:
SUMMARY:Atelier d'expression radiophonique
DESCRIPTION:Atelier d'expression et de crÃ©ation radiophonique pour les 9 a
 ns et +. De maniÃ¨re ludique\,  cet atelier permet aux jeunes de se servir 
 de la radio comme outil pÃ©dagogique\,  pour exprimer librement leurs pensÃ
 ©es sur des thÃ©matiques d'actualitÃ© et de crÃ©er des contenus et les valo
 riser aux mieux vivre ensemble.[..]\nhttps://institutfrancais.ci/events/ate
 lier-dexpression-radiophonique-2/
URL:https://institutfrancais.ci/events/atelier-dexpression-radiophonique-2/
END:VEVENT
END:VCALENDAR