BEGIN:VCALENDAR
VERSION:2.0
PRODID:-//eventon.com NONSGML v1.0//EN
CALSCALE:GREGORIAN
METHOD:PUBLISH
BEGIN:VEVENT
UID:69ea61bc71d6f
DTSTAMP:20260423T181524Z
DTSTART:20260708T160000Z
DTEND:20260708T235000Z
LOCATION:
SUMMARY:Comme jours d'après déluge
DESCRIPTION:On le connaissait critique littéraire. Il se révèle sous un 
 autre jour\,  celui de créateur littéraire. Éric Digbé qui étudie les 
 belles-lettres à l’Université Houphouët-Boigny de Cocody vient de sort
 ir Comme Jours d’après déluge aux éditions La Case des lucioles. Ce po
 ème de 80 pages est son premier texte. Entrée[..]\nhttps://institutfranca
 is.ci/events/comme-jours-dapres-deluge/
URL:https://institutfrancais.ci/events/comme-jours-dapres-deluge/
END:VEVENT
END:VCALENDAR