BEGIN:VCALENDAR
VERSION:2.0
PRODID:-//eventon.com NONSGML v1.0//EN
CALSCALE:GREGORIAN
METHOD:PUBLISH
BEGIN:VEVENT
UID:69ea594a1cc9f
DTSTAMP:20260423T173922Z
DTSTART:20260701T160000Z
DTEND:20260701T235000Z
LOCATION:
SUMMARY:L'adieu à Kourouma
DESCRIPTION:Serge Agnessan promène son lecteur dans des artefacts de perso
 nnages empruntés à des personnages littéraires et des personnalités con
 nues. Ce texte\,  se veut être un travail de mémoire pour la mémoire. En
 trée libre\,  thé et café offerts.\nhttps://institutfrancais.ci/events/l
 adieu-a-kourouma/
URL:https://institutfrancais.ci/events/ladieu-a-kourouma/
END:VEVENT
END:VCALENDAR