BEGIN:VCALENDAR
VERSION:2.0
PRODID:-//eventon.com NONSGML v1.0//EN
CALSCALE:GREGORIAN
METHOD:PUBLISH
BEGIN:VEVENT
UID:69e94bbda2ed8
DTSTAMP:20260422T222917Z
DTSTART:20260617T160000Z
DTEND:20260617T235000Z
LOCATION:
SUMMARY:Dja'nvouÃª
DESCRIPTION:Djaâ€™nvouÃª\,  qui signifie ami ou camarade en wawlÃ©\,  repre
 nd le thÃ¨me de la lutte libertaire de compagnons\,  comme dans MÃ©moire dâ
 €™une tombe qui a valu le Prix Ivoire de 2009 Ã  Tiburce. EntrÃ©e libre\,  
 thÃ© et cafÃ© offerts.\nhttps://institutfrancais.ci/events/djanvoue/
URL:https://institutfrancais.ci/events/djanvoue/
END:VEVENT
END:VCALENDAR