BEGIN:VCALENDAR
VERSION:2.0
PRODID:-//eventon.com NONSGML v1.0//EN
CALSCALE:GREGORIAN
METHOD:PUBLISH
BEGIN:VEVENT
UID:69ea2ada649d1
DTSTAMP:20260423T142114Z
DTSTART:20260422T160000Z
DTEND:20260422T235000Z
LOCATION:
SUMMARY:Or donc c'étaient eux et ce sont bien eux
DESCRIPTION:C’est un texte poétique de Ouattara Sadia paru en 2023 et qu
 i revisite la crise politique ivoirienne de 2010 – 2011\,  dans un souffl
 e poétique. Entrée libre\,  thé et café offerts.\nhttps://institutfranc
 ais.ci/events/or-donc-cetaient-eux-et-ce-sont-bien-eux/
URL:https://institutfrancais.ci/events/or-donc-cetaient-eux-et-ce-sont-bien-eux/
END:VEVENT
END:VCALENDAR