BEGIN:VCALENDAR
VERSION:2.0
PRODID:-//eventon.com NONSGML v1.0//EN
CALSCALE:GREGORIAN
METHOD:PUBLISH
BEGIN:VEVENT
UID:69e92ed32afeb
DTSTAMP:20260422T202555Z
DTSTART:20260408T160000Z
DTEND:20260408T235000Z
LOCATION:
SUMMARY:Otages de sa mort
DESCRIPTION:Une prise dâ€™otage a dÃ©frayÃ© la chronique au milieu des annÃ
 ©es 80 Ã  Abidjan. JoÃ«l Oura rÃ©cupÃ¨re ce fait divers Ã  son compte pour 
 faire lâ€™anecdote de son texte de 256 pages sorti en 2025 aux Editions Sup
 er Nova\,  sous le titre Otages de sa mort. EntrÃ©e libre\,  thÃ© et[..]\nh
 ttps://institutfrancais.ci/events/otages-de-sa-mort/
URL:https://institutfrancais.ci/events/otages-de-sa-mort/
END:VEVENT
END:VCALENDAR