BEGIN:VCALENDAR
VERSION:2.0
PRODID:-//eventon.com NONSGML v1.0//EN
CALSCALE:GREGORIAN
METHOD:PUBLISH
BEGIN:VEVENT
UID:69e94c4bb40d1
DTSTAMP:20260422T223139Z
DTSTART:20260513T190000Z
DTEND:20260513T235000Z
LOCATION:
SUMMARY:Le Mage du Kremlin
DESCRIPTION:Russie\,  dans les années 1990. L’URSS s’effondre. Dans le
  tumulte d’un pays en reconstruction\,  un jeune homme à l’intelligenc
 e redoutable\,  Vadim Baranov\,  trace sa voie. D’abord artiste puis prod
 ucteur de télé-réalité\,  il devient le conseiller officieux d’un anc
 ien agent du KGB promis à un pouvoir absolu\,  le futur « Tsar[..]\nhttps
 ://institutfrancais.ci/events/le-mage-du-kremlin/
URL:https://institutfrancais.ci/events/le-mage-du-kremlin/
END:VEVENT
END:VCALENDAR