BEGIN:VCALENDAR
VERSION:2.0
PRODID:-//eventon.com NONSGML v1.0//EN
CALSCALE:GREGORIAN
METHOD:PUBLISH
BEGIN:VEVENT
UID:69ea2a53035d5
DTSTAMP:20260423T141859Z
DTSTART:20260422T190000Z
DTEND:20260422T235000Z
LOCATION:
SUMMARY:Orwell 2+2=5
DESCRIPTION:1949. George Orwell termine ce qui sera son dernier mais plus i
 mportant roman\,  1984. ORWELL : 2+2=5 plonge dans les derniers mois de la 
 vie d’Orwell et dans son œuvre visionnaire pour explorer les racines des
  concepts troublants qu'il a révélés au monde dans son chef-d'œuvre dys
 topique : le double[..]\nhttps://institutfrancais.ci/events/orwell-225/
URL:https://institutfrancais.ci/events/orwell-225/
END:VEVENT
END:VCALENDAR