BEGIN:VCALENDAR
VERSION:2.0
PRODID:-//eventon.com NONSGML v1.0//EN
CALSCALE:GREGORIAN
METHOD:PUBLISH
BEGIN:VEVENT
UID:69ea2ac53249e
DTSTAMP:20260423T142053Z
DTSTART:20260408T190000Z
DTEND:20260408T235000Z
LOCATION:
SUMMARY:Amadou et Mariam : Sons du Mali
DESCRIPTION:« Amadou et Mariam : Sons du Mali » n'est pas un documentaire
 \,  mais le film d'une extraordinaire épopée où rien n'est joué par les
  acteurs sauf leur bande originale. Celle d'un couple né au Mali avec comm
 e point commun les sons du monde qui les entourent\,  la musique\,  les[..]
 \nhttps://institutfrancais.ci/events/amadou-et-mariam-sons-du-mali/
URL:https://institutfrancais.ci/events/amadou-et-mariam-sons-du-mali/
END:VEVENT
END:VCALENDAR