BEGIN:VCALENDAR
VERSION:2.0
PRODID:-//eventon.com NONSGML v1.0//EN
CALSCALE:GREGORIAN
METHOD:PUBLISH
BEGIN:VEVENT
UID:69ea2a4de1e52
DTSTAMP:20260423T141853Z
DTSTART:20260401T190000Z
DTEND:20260401T235000Z
LOCATION:
SUMMARY:Sinners
DESCRIPTION:Alors qu’ils cherchent à s’affranchir d’un lourd passé\
 ,  deux frères jumeaux reviennent dans leur ville natale pour repartir à 
 zéro. Mais ils comprennent qu’une puissance maléfique bien plus redouta
 ble guette leur retour avec impatience… Tarifs : 3 000 FCFA / 2 000* FCFA
 *Tarif réduit : Moins de 18 ans –[..]\nhttps://institutfrancais.ci/event
 s/sinners/
URL:https://institutfrancais.ci/events/sinners/
END:VEVENT
END:VCALENDAR