BEGIN:VCALENDAR
VERSION:2.0
PRODID:-//eventon.com NONSGML v1.0//EN
CALSCALE:GREGORIAN
METHOD:PUBLISH
BEGIN:VEVENT
UID:69ea2a34b677e
DTSTAMP:20260423T141828Z
DTSTART:20260403T190000Z
DTEND:20260403T235000Z
LOCATION:
SUMMARY:Hip Hop Games
DESCRIPTION:Le Hip Hop Games - Circuit Officiel est une compétition de dan
 se Hip Hop internationale\,  mêlant improvisation\,  épreuves créatives 
 et mise en scène dans laquelle les équipes défendent un projet chorégra
 phique. À l’issue de la tournée\,  les équipes sélectionnées dans le
 s différents pays participeront à la finale internationale en France.[..]
 \nhttps://institutfrancais.ci/events/hip-hop-games-2/
URL:https://institutfrancais.ci/events/hip-hop-games-2/
END:VEVENT
END:VCALENDAR