BEGIN:VCALENDAR
VERSION:2.0
PRODID:-//eventon.com NONSGML v1.0//EN
CALSCALE:GREGORIAN
METHOD:PUBLISH
BEGIN:VEVENT
UID:69e91d5b4c086
DTSTAMP:20260422T191123Z
DTSTART:20250221T180000Z
DTEND:20250221T235000Z
LOCATION:
SUMMARY:DÃ©colonisation architecturale
DESCRIPTION:Pour sa sixiÃ¨me Ã©dition\,  le Black History Month en CÃ´te dâ
 €™Ivoire mettra en lumiÃ¨re le riche patrimoine architectural ivoirien Ã  t
 ravers la thÃ©matique Â«DÃ©colonisation ArchitecturaleÂ». Cette cÃ©lÃ©brati
 on se dÃ©roulera tout au long du mois de fÃ©vrier 2025\,  visant Ã  sensibi
 liser le public sur lâ€™importance de redÃ©finir les narratifs des traces[.
 .]\nhttps://institutfrancais.ci/events/decolonisation-architecturale/
URL:https://institutfrancais.ci/events/decolonisation-architecturale/
END:VEVENT
END:VCALENDAR